BEGIN:VCALENDAR
PRODID:-//Microsoft Corporation//Outlook MIMEDIR//EN
VERSION:2.0
METHOD:PUBLISH
BEGIN:VEVENT
DTSTART:20260416T173000
DTEND:20260416T183000
DESCRIPTION:
LOCATION:Council Chambers
SUMMARY:Recreation & Cultural Services Board
CATEGORIES:MEETING
END:VEVENT
END:VCALENDAR
